BEGIN:VCALENDAR
VERSION:2.0
PRODID:-//Sea-Tac Noise Info//Event Calendar//EN
CALSCALE:GREGORIAN
METHOD:PUBLISH
BEGIN:VEVENT
UID:37921@seatacnoise.info
DTSTAMP:20260423T074442Z
DTSTART:20260430T000000Z
DTEND:20260430T020000Z
SUMMARY:StART (SEA Stakeholder Advisory Round Table) Meeting
STATUS:CONFIRMED
END:VEVENT
END:VCALENDAR
