BEGIN:VCALENDAR
VERSION:2.0
PRODID:-//Sea-Tac Noise Info//Event Calendar//EN
CALSCALE:GREGORIAN
METHOD:PUBLISH
BEGIN:VEVENT
UID:37944@seatacnoise.info
DTSTAMP:20260423T074345Z
DTSTART:20260428T190000Z
DTEND:20260428T190000Z
SUMMARY:Port of Seattle Regular Commission Meeting April 28, 2026
STATUS:CONFIRMED
END:VEVENT
END:VCALENDAR
