BEGIN:VCALENDAR
VERSION:2.0
PRODID:-//Sea-Tac Noise Info//Event Calendar//EN
CALSCALE:GREGORIAN
METHOD:PUBLISH
BEGIN:VEVENT
UID:37953@seatacnoise.info
DTSTAMP:20260423T074442Z
DTSTART:20260428T070000Z
DTEND:20260428T070000Z
SUMMARY:Port of Seattle Commission Meeting &#8211; Resolution No. 3848
STATUS:CONFIRMED
END:VEVENT
END:VCALENDAR
