BEGIN:VCALENDAR
VERSION:2.0
PRODID:-//Sea-Tac Noise Info//Event Calendar//EN
CALSCALE:GREGORIAN
METHOD:PUBLISH
BEGIN:VEVENT
UID:37662@seatacnoise.info
DTSTAMP:20260423T102547Z
DTSTART:20260422T010000Z
DTEND:20260422T010000Z
SUMMARY:Burien Airport Committee Meeting
STATUS:CONFIRMED
END:VEVENT
END:VCALENDAR
