BEGIN:VCALENDAR
VERSION:2.0
PRODID:-//Sea-Tac Noise Info//Event Calendar//EN
CALSCALE:GREGORIAN
METHOD:PUBLISH
BEGIN:VEVENT
UID:37442@seatacnoise.info
DTSTAMP:20260423T101630Z
DTSTART:20260415T010000Z
DTEND:20260415T010000Z
SUMMARY:SeaTac City Council to vote to create new Port of Seattle ILA negotiation committee
STATUS:CONFIRMED
END:VEVENT
END:VCALENDAR
