BEGIN:VCALENDAR
VERSION:2.0
PRODID:-//Sea-Tac Noise Info//Event Calendar//EN
CALSCALE:GREGORIAN
METHOD:PUBLISH
BEGIN:VEVENT
UID:37247@seatacnoise.info
DTSTAMP:20260423T113953Z
DTSTART:20260414T173000Z
DTEND:20260414T173000Z
SUMMARY:Port of Seattle Regular Commission Meeting
STATUS:CONFIRMED
END:VEVENT
END:VCALENDAR
