BEGIN:VCALENDAR
VERSION:2.0
PRODID:-//Sea-Tac Noise Info//Event Calendar//EN
CALSCALE:GREGORIAN
METHOD:PUBLISH
BEGIN:VEVENT
UID:37593@seatacnoise.info
DTSTAMP:20260423T102547Z
DTSTART:20260414T000000Z
DTEND:20260414T020000Z
SUMMARY:KCIA Roundtable Advisory Committee
STATUS:CONFIRMED
END:VEVENT
END:VCALENDAR
