BEGIN:VCALENDAR
VERSION:2.0
PRODID:-//Sea-Tac Noise Info//Event Calendar//EN
CALSCALE:GREGORIAN
METHOD:PUBLISH
BEGIN:VEVENT
UID:35816@seatacnoise.info
DTSTAMP:20260423T134016Z
DTSTART:20260210T000000Z
DTEND:20260210T010008Z
SUMMARY:Des Moines Airport Advisory Committee Meeting
STATUS:CONFIRMED
END:VEVENT
END:VCALENDAR
