BEGIN:VCALENDAR
VERSION:2.0
PRODID:-//Sea-Tac Noise Info//Event Calendar//EN
CALSCALE:GREGORIAN
METHOD:PUBLISH
BEGIN:VEVENT
UID:35876@seatacnoise.info
DTSTAMP:20260423T145136Z
DTSTART:20260209T183000Z
DTEND:20260209T183000Z
SUMMARY:Senate Ways &#038; Means Committee Exec Session &#8211; SB 5898
STATUS:CONFIRMED
END:VEVENT
END:VCALENDAR
