BEGIN:VCALENDAR
VERSION:2.0
PRODID:-//Sea-Tac Noise Info//Event Calendar//EN
CALSCALE:GREGORIAN
METHOD:PUBLISH
BEGIN:VEVENT
UID:35566@seatacnoise.info
DTSTAMP:20260423T133219Z
DTSTART:20260130T183048Z
DTEND:20260130T183048Z
SUMMARY:SB5652 Executive Session
STATUS:CONFIRMED
END:VEVENT
END:VCALENDAR
