BEGIN:VCALENDAR
VERSION:2.0
PRODID:-//Sea-Tac Noise Info//Event Calendar//EN
CALSCALE:GREGORIAN
METHOD:PUBLISH
BEGIN:VEVENT
UID:35213@seatacnoise.info
DTSTAMP:20260423T114853Z
DTSTART:20260129T170006Z
DTEND:20260129T170006Z
SUMMARY:UECNA Webinar: Does airport expansion always benefit the economy of a country?
STATUS:CONFIRMED
END:VEVENT
END:VCALENDAR
