BEGIN:VCALENDAR
VERSION:2.0
PRODID:-//Sea-Tac Noise Info//Event Calendar//EN
CALSCALE:GREGORIAN
METHOD:PUBLISH
BEGIN:VEVENT
UID:35342@seatacnoise.info
DTSTAMP:20260423T132105Z
DTSTART:20260128T223000Z
DTEND:20260129T003000Z
SUMMARY:Highline Forum January 28, 2026, Meeting Agenda
STATUS:CONFIRMED
END:VEVENT
END:VCALENDAR
