BEGIN:VCALENDAR
VERSION:2.0
PRODID:-//Sea-Tac Noise Info//Event Calendar//EN
CALSCALE:GREGORIAN
METHOD:PUBLISH
BEGIN:VEVENT
UID:35409@seatacnoise.info
DTSTAMP:20260423T132109Z
DTSTART:20260127T200034Z
DTEND:20260127T200034Z
SUMMARY:Port of Seattle Regular Commission Meeting January 27, 2026
STATUS:CONFIRMED
END:VEVENT
END:VCALENDAR
