BEGIN:VCALENDAR
VERSION:2.0
PRODID:-//Sea-Tac Noise Info//Event Calendar//EN
CALSCALE:GREGORIAN
METHOD:PUBLISH
BEGIN:VEVENT
UID:35275@seatacnoise.info
DTSTAMP:20260423T114852Z
DTSTART:20260127T000000Z
DTEND:20260127T000000Z
SUMMARY:SB6240 Hearing scheduled for Ways &#038; Means
STATUS:CONFIRMED
END:VEVENT
END:VCALENDAR
