BEGIN:VCALENDAR
VERSION:2.0
PRODID:-//Sea-Tac Noise Info//Event Calendar//EN
CALSCALE:GREGORIAN
METHOD:PUBLISH
BEGIN:VEVENT
UID:35184@seatacnoise.info
DTSTAMP:20260423T133219Z
DTSTART:20260121T160017Z
DTEND:20260121T160017Z
SUMMARY:Sign up to support SB5652
STATUS:CONFIRMED
END:VEVENT
END:VCALENDAR
