BEGIN:VCALENDAR
VERSION:2.0
PRODID:-//Sea-Tac Noise Info//Event Calendar//EN
CALSCALE:GREGORIAN
METHOD:PUBLISH
BEGIN:VEVENT
UID:35157@seatacnoise.info
DTSTAMP:20260423T104748Z
DTSTART:20260121T020000Z
DTEND:20260121T020000Z
SUMMARY:Burien Airport Committee Meeting January 20, 2026
STATUS:CONFIRMED
END:VEVENT
END:VCALENDAR
