BEGIN:VCALENDAR
VERSION:2.0
PRODID:-//Sea-Tac Noise Info//Event Calendar//EN
CALSCALE:GREGORIAN
METHOD:PUBLISH
BEGIN:VEVENT
UID:34717@seatacnoise.info
DTSTAMP:20260423T145138Z
DTSTART:20260113T200000Z
DTEND:20260113T200000Z
SUMMARY:Port of Seattle Regular Commission Meeting January 13, 2026
STATUS:CONFIRMED
END:VEVENT
END:VCALENDAR
