BEGIN:VCALENDAR
VERSION:2.0
PRODID:-//Sea-Tac Noise Info//Event Calendar//EN
CALSCALE:GREGORIAN
METHOD:PUBLISH
BEGIN:VEVENT
UID:31513@seatacnoise.info
DTSTAMP:20260423T114851Z
DTSTART:20251218T010000Z
DTEND:20251218T030000Z
SUMMARY:StART Meeting Notice and Agenda December 17, 2025
STATUS:CONFIRMED
END:VEVENT
END:VCALENDAR
