BEGIN:VCALENDAR
VERSION:2.0
PRODID:-//Sea-Tac Noise Info//Event Calendar//EN
CALSCALE:GREGORIAN
METHOD:PUBLISH
BEGIN:VEVENT
UID:29916@seatacnoise.info
DTSTAMP:20260423T132104Z
DTSTART:20251209T180000Z
DTEND:20251210T000045Z
SUMMARY:Commercial Aviation Workgroup Meeting (Boeing Field)
STATUS:CONFIRMED
END:VEVENT
END:VCALENDAR
