BEGIN:VCALENDAR
VERSION:2.0
PRODID:-//Sea-Tac Noise Info//Event Calendar//EN
CALSCALE:GREGORIAN
METHOD:PUBLISH
BEGIN:VEVENT
UID:31305@seatacnoise.info
DTSTAMP:20260423T172648Z
DTSTART:20251209T200000Z
DTEND:20251209T200000Z
SUMMARY:Port of Seattle Commission Regular Meeting
STATUS:CONFIRMED
END:VEVENT
END:VCALENDAR
