BEGIN:VCALENDAR
VERSION:2.0
PRODID:-//Sea-Tac Noise Info//Event Calendar//EN
CALSCALE:GREGORIAN
METHOD:PUBLISH
BEGIN:VEVENT
UID:30758@seatacnoise.info
DTSTAMP:20260423T161242Z
DTSTART:20251128T180000Z
DTEND:20251128T200026Z
SUMMARY:North SeaTac Park Black Friday Tree Planting
STATUS:CONFIRMED
END:VEVENT
END:VCALENDAR
