BEGIN:VCALENDAR
VERSION:2.0
PRODID:-//Sea-Tac Noise Info//Event Calendar//EN
CALSCALE:GREGORIAN
METHOD:PUBLISH
BEGIN:VEVENT
UID:30062@seatacnoise.info
DTSTAMP:20260423T151000Z
DTSTART:20251120T030037Z
DTEND:20251120T030037Z
SUMMARY:Des Moines Historical Society Airport History
STATUS:CONFIRMED
END:VEVENT
END:VCALENDAR
