BEGIN:VCALENDAR
VERSION:2.0
PRODID:-//Sea-Tac Noise Info//Event Calendar//EN
CALSCALE:GREGORIAN
METHOD:PUBLISH
BEGIN:VEVENT
UID:30193@seatacnoise.info
DTSTAMP:20260423T114852Z
DTSTART:20251119T223000Z
DTEND:20251120T003002Z
SUMMARY:Highline Forum November 19, 2025 (SeaTac City Hall)
STATUS:CONFIRMED
END:VEVENT
END:VCALENDAR
