BEGIN:VCALENDAR
VERSION:2.0
PRODID:-//Sea-Tac Noise Info//Event Calendar//EN
CALSCALE:GREGORIAN
METHOD:PUBLISH
BEGIN:VEVENT
UID:30161@seatacnoise.info
DTSTAMP:20260423T161242Z
DTSTART:20251119T010000Z
DTEND:20251118T200055Z
SUMMARY:Port of Seattle Commission Meeting
STATUS:CONFIRMED
END:VEVENT
END:VCALENDAR
