BEGIN:VCALENDAR
VERSION:2.0
PRODID:-//Sea-Tac Noise Info//Event Calendar//EN
CALSCALE:GREGORIAN
METHOD:PUBLISH
BEGIN:VEVENT
UID:30059@seatacnoise.info
DTSTAMP:20260423T162521Z
DTSTART:20251111T000003Z
DTEND:20251111T000003Z
SUMMARY:Des Moines Airport Advisory Committee
STATUS:CONFIRMED
END:VEVENT
END:VCALENDAR
