BEGIN:VCALENDAR
VERSION:2.0
PRODID:-//Sea-Tac Noise Info//Event Calendar//EN
CALSCALE:GREGORIAN
METHOD:PUBLISH
BEGIN:VEVENT
UID:29580@seatacnoise.info
DTSTAMP:20260423T174715Z
DTSTART:20251023T000000Z
DTEND:20251023T020018Z
SUMMARY:StART October 22, 2025
STATUS:CONFIRMED
END:VEVENT
END:VCALENDAR
