BEGIN:VCALENDAR
VERSION:2.0
PRODID:-//Sea-Tac Noise Info//Event Calendar//EN
CALSCALE:GREGORIAN
METHOD:PUBLISH
BEGIN:VEVENT
UID:29081@seatacnoise.info
DTSTAMP:20260423T174727Z
DTSTART:00051016T015258Z
DTEND:20251016T030019Z
SUMMARY:Sea-Tac Part 150 Virtual Public Workshop
STATUS:CONFIRMED
END:VEVENT
END:VCALENDAR
