BEGIN:VCALENDAR
VERSION:2.0
PRODID:-//Sea-Tac Noise Info//Event Calendar//EN
CALSCALE:GREGORIAN
METHOD:PUBLISH
BEGIN:VEVENT
UID:29387@seatacnoise.info
DTSTAMP:20260423T145136Z
DTSTART:20251014T160059Z
DTEND:20251014T160059Z
SUMMARY:Port of Seattle Commission Special and General Meetings
STATUS:CONFIRMED
END:VEVENT
END:VCALENDAR
