BEGIN:VCALENDAR
VERSION:2.0
PRODID:-//Sea-Tac Noise Info//Event Calendar//EN
CALSCALE:GREGORIAN
METHOD:PUBLISH
BEGIN:VEVENT
UID:29333@seatacnoise.info
DTSTAMP:20260423T174144Z
DTSTART:20251013T230031Z
DTEND:20251013T230031Z
SUMMARY:Des Moines Airport Advisory Committee
STATUS:CONFIRMED
END:VEVENT
END:VCALENDAR
