BEGIN:VCALENDAR
VERSION:2.0
PRODID:-//Sea-Tac Noise Info//Event Calendar//EN
CALSCALE:GREGORIAN
METHOD:PUBLISH
BEGIN:VEVENT
UID:28896@seatacnoise.info
DTSTAMP:20260423T134016Z
DTSTART:20251009T010000Z
DTEND:20251009T020038Z
SUMMARY:Port of Seattle SAMP EA Webinar
STATUS:CONFIRMED
END:VEVENT
END:VCALENDAR
