BEGIN:VCALENDAR
VERSION:2.0
PRODID:-//Sea-Tac Noise Info//Event Calendar//EN
CALSCALE:GREGORIAN
METHOD:PUBLISH
BEGIN:VEVENT
UID:29022@seatacnoise.info
DTSTAMP:20260423T174629Z
DTSTART:20251003T010000Z
DTEND:20251003T030038Z
SUMMARY:Sea-Tac Part 150 Public Workshop 2
STATUS:CONFIRMED
END:VEVENT
END:VCALENDAR
