BEGIN:VCALENDAR
VERSION:2.0
PRODID:-//Sea-Tac Noise Info//Event Calendar//EN
CALSCALE:GREGORIAN
METHOD:PUBLISH
BEGIN:VEVENT
UID:28247@seatacnoise.info
DTSTAMP:20260423T190328Z
DTSTART:20251001T010000Z
DTEND:20251001T030038Z
SUMMARY:Sea-Tac Part 150 Public Workshops
STATUS:CONFIRMED
END:VEVENT
END:VCALENDAR
