BEGIN:VCALENDAR
VERSION:2.0
PRODID:-//Sea-Tac Noise Info//Event Calendar//EN
CALSCALE:GREGORIAN
METHOD:PUBLISH
BEGIN:VEVENT
UID:28657@seatacnoise.info
DTSTAMP:20260423T174603Z
DTSTART:20250923T190000Z
DTEND:20250923T220005Z
SUMMARY:Port of Seattle Commission Meeting
STATUS:CONFIRMED
END:VEVENT
END:VCALENDAR
