BEGIN:VCALENDAR
VERSION:2.0
PRODID:-//Sea-Tac Noise Info//Event Calendar//EN
CALSCALE:GREGORIAN
METHOD:PUBLISH
BEGIN:VEVENT
UID:28109@seatacnoise.info
DTSTAMP:20260423T132104Z
DTSTART:20250917T170000Z
DTEND:20250917T210042Z
SUMMARY:CAWG September 17, 2025
STATUS:CONFIRMED
END:VEVENT
END:VCALENDAR
