BEGIN:VCALENDAR
VERSION:2.0
PRODID:-//Sea-Tac Noise Info//Event Calendar//EN
CALSCALE:GREGORIAN
METHOD:PUBLISH
BEGIN:VEVENT
UID:28333@seatacnoise.info
DTSTAMP:20260423T185813Z
DTSTART:20250909T190005Z
DTEND:20250909T190005Z
SUMMARY:Port of Seattle Commission Meeting
STATUS:CONFIRMED
END:VEVENT
END:VCALENDAR
