BEGIN:VCALENDAR
VERSION:2.0
PRODID:-//Sea-Tac Noise Info//Event Calendar//EN
CALSCALE:GREGORIAN
METHOD:PUBLISH
BEGIN:VEVENT
UID:28404@seatacnoise.info
DTSTAMP:20260423T161241Z
DTSTART:20250909T000048Z
DTEND:20250909T000048Z
SUMMARY:KCIA Roundtable September 8, 2025
STATUS:CONFIRMED
END:VEVENT
END:VCALENDAR
