BEGIN:VCALENDAR
VERSION:2.0
PRODID:-//Sea-Tac Noise Info//Event Calendar//EN
CALSCALE:GREGORIAN
METHOD:PUBLISH
BEGIN:VEVENT
UID:28374@seatacnoise.info
DTSTAMP:20260423T190417Z
DTSTART:20250908T230056Z
DTEND:20250908T230056Z
SUMMARY:Des Moines Airport Advisory Committee
STATUS:CONFIRMED
END:VEVENT
END:VCALENDAR
