BEGIN:VCALENDAR
VERSION:2.0
PRODID:-//Sea-Tac Noise Info//Event Calendar//EN
CALSCALE:GREGORIAN
METHOD:PUBLISH
BEGIN:VEVENT
UID:27982@seatacnoise.info
DTSTAMP:20260423T134016Z
DTSTART:20250828T000000Z
DTEND:20250828T020039Z
SUMMARY:StART August 27, 2025
STATUS:CONFIRMED
END:VEVENT
END:VCALENDAR
