BEGIN:VCALENDAR
VERSION:2.0
PRODID:-//Sea-Tac Noise Info//Event Calendar//EN
CALSCALE:GREGORIAN
METHOD:PUBLISH
BEGIN:VEVENT
UID:27646@seatacnoise.info
DTSTAMP:20260423T185813Z
DTSTART:20250812T190000Z
DTEND:20250812T200028Z
SUMMARY:Webinar: Federal Environmental Policy Update
STATUS:CONFIRMED
END:VEVENT
END:VCALENDAR
