BEGIN:VCALENDAR
VERSION:2.0
PRODID:-//Sea-Tac Noise Info//Event Calendar//EN
CALSCALE:GREGORIAN
METHOD:PUBLISH
BEGIN:VEVENT
UID:27649@seatacnoise.info
DTSTAMP:20260423T202450Z
DTSTART:20250811T230000Z
DTEND:20250812T000023Z
SUMMARY:Des Moines Airport Advisory Committee
STATUS:CONFIRMED
END:VEVENT
END:VCALENDAR
