BEGIN:VCALENDAR
VERSION:2.0
PRODID:-//Sea-Tac Noise Info//Event Calendar//EN
CALSCALE:GREGORIAN
METHOD:PUBLISH
BEGIN:VEVENT
UID:27182@seatacnoise.info
DTSTAMP:20260423T203314Z
DTSTART:20250723T213000Z
DTEND:20250723T233049Z
SUMMARY:Highline Forum July 23 2025 (Highline College Bldg #8)
STATUS:CONFIRMED
END:VEVENT
END:VCALENDAR
