BEGIN:VCALENDAR
VERSION:2.0
PRODID:-//Sea-Tac Noise Info//Event Calendar//EN
CALSCALE:GREGORIAN
METHOD:PUBLISH
BEGIN:VEVENT
UID:26761@seatacnoise.info
DTSTAMP:20260423T114857Z
DTSTART:20250715T160000Z
DTEND:20250715T190015Z
SUMMARY:UECNA Webinar: Measures which affects noise under flight paths
STATUS:CONFIRMED
END:VEVENT
END:VCALENDAR
