BEGIN:VCALENDAR
VERSION:2.0
PRODID:-//Sea-Tac Noise Info//Event Calendar//EN
CALSCALE:GREGORIAN
METHOD:PUBLISH
BEGIN:VEVENT
UID:26822@seatacnoise.info
DTSTAMP:20260423T184610Z
DTSTART:20250628T180000Z
DTEND:20250628T210003Z
SUMMARY:Free Air Purifiers for Burien residents!
STATUS:CONFIRMED
END:VEVENT
END:VCALENDAR
