BEGIN:VCALENDAR
VERSION:2.0
PRODID:-//Sea-Tac Noise Info//Event Calendar//EN
CALSCALE:GREGORIAN
METHOD:PUBLISH
BEGIN:VEVENT
UID:26721@seatacnoise.info
DTSTAMP:20260423T203118Z
DTSTART:20250618T010000Z
DTEND:20250618T023027Z
SUMMARY:Burien Airport Committee June 17, 2025 (Burien City Hall)
STATUS:CONFIRMED
END:VEVENT
END:VCALENDAR
