BEGIN:VCALENDAR
VERSION:2.0
PRODID:-//Sea-Tac Noise Info//Event Calendar//EN
CALSCALE:GREGORIAN
METHOD:PUBLISH
BEGIN:VEVENT
UID:26245@seatacnoise.info
DTSTAMP:20260423T203131Z
DTSTART:20250528T213000Z
DTEND:20250528T233009Z
SUMMARY:Highline Forum May 28, 2025 (Burien City Hall)
STATUS:CONFIRMED
END:VEVENT
END:VCALENDAR
