BEGIN:VCALENDAR
VERSION:2.0
PRODID:-//Sea-Tac Noise Info//Event Calendar//EN
CALSCALE:GREGORIAN
METHOD:PUBLISH
BEGIN:VEVENT
UID:25081@seatacnoise.info
DTSTAMP:20260423T165515Z
DTSTART:20250326T213000Z
DTEND:20250326T233046Z
SUMMARY:Highline Forum March 26, 2025
STATUS:CONFIRMED
END:VEVENT
END:VCALENDAR
