BEGIN:VCALENDAR
VERSION:2.0
PRODID:-//Sea-Tac Noise Info//Event Calendar//EN
CALSCALE:GREGORIAN
METHOD:PUBLISH
BEGIN:VEVENT
UID:23772@seatacnoise.info
DTSTAMP:20260423T184027Z
DTSTART:20241219T010000Z
DTEND:20241219T030059Z
SUMMARY:StART December 18, 2024
STATUS:CONFIRMED
END:VEVENT
END:VCALENDAR
