BEGIN:VCALENDAR
VERSION:2.0
PRODID:-//Sea-Tac Noise Info//Event Calendar//EN
CALSCALE:GREGORIAN
METHOD:PUBLISH
BEGIN:VEVENT
UID:23543@seatacnoise.info
DTSTAMP:20260423T145135Z
DTSTART:20241204T030000Z
DTEND:20241204T020048Z
SUMMARY:City of Des Moines SAMP Town Hall
STATUS:CONFIRMED
END:VEVENT
END:VCALENDAR
