BEGIN:VCALENDAR
VERSION:2.0
PRODID:-//Sea-Tac Noise Info//Event Calendar//EN
CALSCALE:GREGORIAN
METHOD:PUBLISH
BEGIN:VEVENT
UID:23412@seatacnoise.info
DTSTAMP:20260423T114852Z
DTSTART:20241115T040000Z
DTEND:20241115T023037Z
SUMMARY:SR-509 Stage 2 Open House
STATUS:CONFIRMED
END:VEVENT
END:VCALENDAR
