BEGIN:VCALENDAR
VERSION:2.0
PRODID:-//Sea-Tac Noise Info//Event Calendar//EN
CALSCALE:GREGORIAN
METHOD:PUBLISH
BEGIN:VEVENT
UID:22643@seatacnoise.info
DTSTAMP:20260423T132105Z
DTSTART:20241029T163017Z
DTEND:20241029T163017Z
SUMMARY:Commercial Aviation Workgroup Meeting #3
STATUS:CONFIRMED
END:VEVENT
END:VCALENDAR
